BEGIN:VCALENDAR
VERSION:2.0
PRODID:-//Plone.org//NONSGML plone.app.event//EN
X-WR-TIMEZONE:Europe/Rome
BEGIN:VEVENT
SUMMARY:Lezione di E. Matelli
DTSTART;TZID=Europe/Rome;VALUE=DATE-TIME:20170504T161500
DTEND;TZID=Europe/Rome;VALUE=DATE-TIME:20170504T180000
DTSTAMP;VALUE=DATE-TIME:20260422T182845Z
UID:b7cdf91cb2434932961da64fcb956b26@ficlit.unibo.it
CREATED;VALUE=DATE-TIME:20170215T100834Z
LAST-MODIFIED;VALUE=DATE-TIME:20170314T105109Z
URL:https://ficlit.unibo.it/it/eventi/lezione-di-e.-matelli
END:VEVENT
BEGIN:VTIMEZONE
TZID:Europe/Rome
X-LIC-LOCATION:Europe/Rome
BEGIN:DAYLIGHT
DTSTART;VALUE=DATE-TIME:20170326T030000
TZNAME:CEST
TZOFFSETFROM:+0100
TZOFFSETTO:+0200
END:DAYLIGHT
END:VTIMEZONE
END:VCALENDAR
