BEGIN:VCALENDAR
VERSION:2.0
PRODID:-//Plone.org//NONSGML plone.app.event//EN
X-WR-TIMEZONE:Europe/Rome
BEGIN:VEVENT
SUMMARY:Lezione di Giovanna Pace: Problemi metrici nei Persiani di Eschilo
DTSTART;TZID=Europe/Rome;VALUE=DATE-TIME:20241129T110000
DTEND;TZID=Europe/Rome;VALUE=DATE-TIME:20241129T130000
DTSTAMP;VALUE=DATE-TIME:20260420T083341Z
UID:e3963c255cc040db8250fc90a9d90cdf@ficlit.unibo.it
CREATED;VALUE=DATE-TIME:20241013T210125Z
DESCRIPTION:Ciclo di conferenze e seminari “FLCB” 2024/2025
LAST-MODIFIED;VALUE=DATE-TIME:20241013T210151Z
URL:https://ficlit.unibo.it/it/eventi/lezione-di-giovanna-pace-problemi-me
 trici-nei-persiani-di-eschilo
END:VEVENT
BEGIN:VTIMEZONE
TZID:Europe/Rome
X-LIC-LOCATION:Europe/Rome
BEGIN:STANDARD
DTSTART;VALUE=DATE-TIME:20241027T020000
TZNAME:CET
TZOFFSETFROM:+0200
TZOFFSETTO:+0100
END:STANDARD
END:VTIMEZONE
END:VCALENDAR
