BEGIN:VCALENDAR
VERSION:2.0
PRODID:-//Plone.org//NONSGML plone.app.event//EN
X-WR-TIMEZONE:Europe/Rome
BEGIN:VEVENT
SUMMARY:Lezione di H. Bernsdorff
DTSTART;TZID=Europe/Rome;VALUE=DATE-TIME:20170420T111500
DTEND;TZID=Europe/Rome;VALUE=DATE-TIME:20170420T130000
DTSTAMP;VALUE=DATE-TIME:20260423T013614Z
UID:32d5fbc5588d4f2cbd8dca8d90ccc9c0@ficlit.unibo.it
CREATED;VALUE=DATE-TIME:20171129T151456Z
LAST-MODIFIED;VALUE=DATE-TIME:20171129T151518Z
URL:https://ficlit.unibo.it/it/eventi/lezione-di-h.-bernsdorff
END:VEVENT
BEGIN:VTIMEZONE
TZID:Europe/Rome
X-LIC-LOCATION:Europe/Rome
BEGIN:DAYLIGHT
DTSTART;VALUE=DATE-TIME:20170326T030000
TZNAME:CEST
TZOFFSETFROM:+0100
TZOFFSETTO:+0200
END:DAYLIGHT
END:VTIMEZONE
END:VCALENDAR
