BEGIN:VCALENDAR
VERSION:2.0
PRODID:-//Plone.org//NONSGML plone.app.event//EN
X-WR-TIMEZONE:Europe/Rome
BEGIN:VEVENT
SUMMARY:Lezione di L. Graverini: La novella di Carite e Tlepolemo nelle «
 Metamorfosi» di Apuleio
DTSTART;TZID=Europe/Rome;VALUE=DATE-TIME:20250220T151500
DTEND;TZID=Europe/Rome;VALUE=DATE-TIME:20250220T170000
DTSTAMP;VALUE=DATE-TIME:20260420T141148Z
UID:cf09c2b5e2774d8c9ede5f6debd9a672@ficlit.unibo.it
CREATED;VALUE=DATE-TIME:20250209T223019Z
DESCRIPTION:Ciclo di conferenze e seminari «FLCB» 2024/2025
LAST-MODIFIED;VALUE=DATE-TIME:20250209T223237Z
URL:https://ficlit.unibo.it/it/eventi/lezione-di-l-graverini-la-novella-di
 -carite-e-tlepolemo-nelle-metamorfosi-di-apuleio
END:VEVENT
BEGIN:VTIMEZONE
TZID:Europe/Rome
X-LIC-LOCATION:Europe/Rome
BEGIN:STANDARD
DTSTART;VALUE=DATE-TIME:20241027T020000
TZNAME:CET
TZOFFSETFROM:+0200
TZOFFSETTO:+0100
END:STANDARD
END:VTIMEZONE
END:VCALENDAR
