BEGIN:VCALENDAR
VERSION:2.0
PRODID:-//Plone.org//NONSGML plone.app.event//EN
X-WR-TIMEZONE:Europe/Rome
BEGIN:VEVENT
SUMMARY:Lezione di L. Landolfi
DTSTART;TZID=Europe/Rome;VALUE=DATE-TIME:20170227T151500
DTEND;TZID=Europe/Rome;VALUE=DATE-TIME:20170227T170000
DTSTAMP;VALUE=DATE-TIME:20260422T235344Z
UID:c35d53814b9d44d3ba793ea3ea32020e@ficlit.unibo.it
CREATED;VALUE=DATE-TIME:20170221T094023Z
LAST-MODIFIED;VALUE=DATE-TIME:20170221T094123Z
URL:https://ficlit.unibo.it/it/eventi/lezione-di-l.-landolfi-1
END:VEVENT
BEGIN:VTIMEZONE
TZID:Europe/Rome
X-LIC-LOCATION:Europe/Rome
BEGIN:STANDARD
DTSTART;VALUE=DATE-TIME:20161030T020000
TZNAME:CET
TZOFFSETFROM:+0200
TZOFFSETTO:+0100
END:STANDARD
END:VTIMEZONE
END:VCALENDAR
