BEGIN:VCALENDAR
VERSION:2.0
PRODID:-//Plone.org//NONSGML plone.app.event//EN
X-WR-TIMEZONE:Europe/Rome
BEGIN:VEVENT
SUMMARY:Lezione di P. Finglass
DTSTART;TZID=Europe/Rome;VALUE=DATE-TIME:20180112T100000
DTEND;TZID=Europe/Rome;VALUE=DATE-TIME:20180112T113000
DTSTAMP;VALUE=DATE-TIME:20260424T084109Z
UID:d82331f03d564dd293879c760da745c9@ficlit.unibo.it
CREATED;VALUE=DATE-TIME:20171026T124236Z
LAST-MODIFIED;VALUE=DATE-TIME:20180108T125254Z
URL:https://ficlit.unibo.it/it/eventi/lezione-di-p.-finglass
END:VEVENT
BEGIN:VTIMEZONE
TZID:Europe/Rome
X-LIC-LOCATION:Europe/Rome
BEGIN:STANDARD
DTSTART;VALUE=DATE-TIME:20171029T020000
TZNAME:CET
TZOFFSETFROM:+0200
TZOFFSETTO:+0100
END:STANDARD
END:VTIMEZONE
END:VCALENDAR
