BEGIN:VCALENDAR
VERSION:2.0
PRODID:-//Plone.org//NONSGML plone.app.event//EN
X-WR-TIMEZONE:Europe/Rome
BEGIN:VEVENT
SUMMARY:Lezione di P. Mastandrea
DTSTART;TZID=Europe/Rome;VALUE=DATE-TIME:20161103T153000
DTEND;TZID=Europe/Rome;VALUE=DATE-TIME:20161103T170000
DTSTAMP;VALUE=DATE-TIME:20260425T000621Z
UID:27a509c2f95048f4b5d0a0c762dfacc2@ficlit.unibo.it
CREATED;VALUE=DATE-TIME:20161027T083818Z
LAST-MODIFIED;VALUE=DATE-TIME:20161027T084301Z
URL:https://ficlit.unibo.it/it/eventi/lezione-di-p.-mastandrea
END:VEVENT
BEGIN:VTIMEZONE
TZID:Europe/Rome
X-LIC-LOCATION:Europe/Rome
BEGIN:STANDARD
DTSTART;VALUE=DATE-TIME:20161030T020000
TZNAME:CET
TZOFFSETFROM:+0200
TZOFFSETTO:+0100
END:STANDARD
END:VTIMEZONE
END:VCALENDAR
