BEGIN:VCALENDAR
VERSION:2.0
PRODID:-//Plone.org//NONSGML plone.app.event//EN
X-WR-TIMEZONE:Europe/Rome
BEGIN:VEVENT
SUMMARY:Lezione del Prof. Luca Mondin (Ca' Foscari\, Venezia) - La tradizi
 one manoscritta di Ausonio e il problema delle varianti
DTSTART;TZID=Europe/Rome;VALUE=DATE-TIME:20200306T150000
DTEND;TZID=Europe/Rome;VALUE=DATE-TIME:20200306T170000
DTSTAMP;VALUE=DATE-TIME:20260419T190143Z
UID:5be5837825d54463af2307c767f172b7@ficlit.unibo.it
CREATED;VALUE=DATE-TIME:20200123T092122Z
DESCRIPTION:Lezione nell'ambito del corso di Filologia Classica della prof
 .ssa Lucia Floridi
LAST-MODIFIED;VALUE=DATE-TIME:20200123T092122Z
URL:https://ficlit.unibo.it/it/eventi/lezione-luca-mondin-ca-foscari-venez
 ia-tradizione-manoscritta-ausonio-problema-varianti
END:VEVENT
BEGIN:VTIMEZONE
TZID:Europe/Rome
X-LIC-LOCATION:Europe/Rome
BEGIN:STANDARD
DTSTART;VALUE=DATE-TIME:20191027T020000
TZNAME:CET
TZOFFSETFROM:+0200
TZOFFSETTO:+0100
END:STANDARD
END:VTIMEZONE
END:VCALENDAR
