BEGIN:VCALENDAR
VERSION:2.0
PRODID:-//Plone.org//NONSGML plone.app.event//EN
X-WR-TIMEZONE:Europe/Rome
BEGIN:VEVENT
SUMMARY:Libri antichi e moderni nei cataloghi elettronici. Le riviste acca
 demiche e i loro cataloghi
DTSTART;TZID=Europe/Rome;VALUE=DATE-TIME:20220525T120000
DTEND;TZID=Europe/Rome;VALUE=DATE-TIME:20220525T130000
DTSTAMP;VALUE=DATE-TIME:20260422T122431Z
UID:6f18a38b7d594ec9b88c1672e3fa7dfe@ficlit.unibo.it
CREATED;VALUE=DATE-TIME:20220503T152520Z
DESCRIPTION:Bibliolab - Primo appuntamento del ciclo
LAST-MODIFIED;VALUE=DATE-TIME:20220503T152823Z
URL:https://ficlit.unibo.it/it/eventi/libri-antichi-e-moderni-nei-catalogh
 i-elettronici-le-riviste-accademiche-e-i-loro-cataloghi
END:VEVENT
BEGIN:VTIMEZONE
TZID:Europe/Rome
X-LIC-LOCATION:Europe/Rome
BEGIN:DAYLIGHT
DTSTART;VALUE=DATE-TIME:20220327T030000
TZNAME:CEST
TZOFFSETFROM:+0100
TZOFFSETTO:+0200
END:DAYLIGHT
END:VTIMEZONE
END:VCALENDAR
