BEGIN:VCALENDAR
VERSION:2.0
PRODID:-//Plone.org//NONSGML plone.app.event//EN
X-WR-TIMEZONE:Europe/Rome
BEGIN:VEVENT
SUMMARY:L'intellettuale militante e la poesia
DTSTART;TZID=Europe/Rome;VALUE=DATE-TIME:20170420T160000
DTEND;TZID=Europe/Rome;VALUE=DATE-TIME:20170420T190000
DTSTAMP;VALUE=DATE-TIME:20260423T051229Z
UID:8171b7cc238a43e0a19e92d17b0314d4@ficlit.unibo.it
CREATED;VALUE=DATE-TIME:20170410T072716Z
DESCRIPTION:Il Gramsci di Pasolini e Sanguineti
LAST-MODIFIED;VALUE=DATE-TIME:20170410T073111Z
URL:https://ficlit.unibo.it/it/eventi/lintellettuale-militante-e-la-poesia
END:VEVENT
BEGIN:VTIMEZONE
TZID:Europe/Rome
X-LIC-LOCATION:Europe/Rome
BEGIN:DAYLIGHT
DTSTART;VALUE=DATE-TIME:20170326T030000
TZNAME:CEST
TZOFFSETFROM:+0100
TZOFFSETTO:+0200
END:DAYLIGHT
END:VTIMEZONE
END:VCALENDAR
