BEGIN:VCALENDAR
VERSION:2.0
PRODID:-//Plone.org//NONSGML plone.app.event//EN
X-WR-TIMEZONE:Europe/Rome
BEGIN:VEVENT
SUMMARY:L'italiano è in declino? Le competenze linguistiche tra scuola e 
 università
DTSTART;TZID=Europe/Rome;VALUE=DATE-TIME:20170306T150000
DTEND;TZID=Europe/Rome;VALUE=DATE-TIME:20170306T180000
DTSTAMP;VALUE=DATE-TIME:20260423T000456Z
UID:33d51c16e50148ba83a3d63e05e764e5@ficlit.unibo.it
CREATED;VALUE=DATE-TIME:20170226T220057Z
LAST-MODIFIED;VALUE=DATE-TIME:20170323T062642Z
URL:https://ficlit.unibo.it/it/eventi/litaliano-e-in-declino-le-competenze
 -linguistiche-tra-scuola-e-universita
END:VEVENT
BEGIN:VTIMEZONE
TZID:Europe/Rome
X-LIC-LOCATION:Europe/Rome
BEGIN:STANDARD
DTSTART;VALUE=DATE-TIME:20161030T020000
TZNAME:CET
TZOFFSETFROM:+0200
TZOFFSETTO:+0100
END:STANDARD
END:VTIMEZONE
END:VCALENDAR
