BEGIN:VCALENDAR
VERSION:2.0
PRODID:-//Plone.org//NONSGML plone.app.event//EN
X-WR-TIMEZONE:Europe/Rome
BEGIN:VEVENT
SUMMARY:Lo spazio della parola. Aperitivi filologici
DTSTART;TZID=Europe/Rome;VALUE=DATE-TIME:20220225T183000
DTEND;TZID=Europe/Rome;VALUE=DATE-TIME:20220610T203000
DTSTAMP;VALUE=DATE-TIME:20260422T043248Z
UID:bc8c0dc3921d42bba2b63088cdeaeeec@ficlit.unibo.it
CREATED;VALUE=DATE-TIME:20220216T080039Z
DESCRIPTION:Una serie di incontri lungo tutto l’arco del 2022 volta ad a
 pprofondire e diffondere l’uso appropriato\, sapiente e etico della paro
 la.
LAST-MODIFIED;VALUE=DATE-TIME:20220216T081645Z
URL:https://ficlit.unibo.it/it/eventi/lo-spazio-della-parola-aperitivi-fil
 ologici
END:VEVENT
BEGIN:VTIMEZONE
TZID:Europe/Rome
X-LIC-LOCATION:Europe/Rome
BEGIN:STANDARD
DTSTART;VALUE=DATE-TIME:20211031T020000
TZNAME:CET
TZOFFSETFROM:+0200
TZOFFSETTO:+0100
END:STANDARD
BEGIN:DAYLIGHT
DTSTART;VALUE=DATE-TIME:20220327T030000
TZNAME:CEST
TZOFFSETFROM:+0100
TZOFFSETTO:+0200
END:DAYLIGHT
END:VTIMEZONE
END:VCALENDAR
