BEGIN:VCALENDAR
VERSION:2.0
PRODID:-//Plone.org//NONSGML plone.app.event//EN
X-WR-TIMEZONE:Europe/Rome
BEGIN:VEVENT
SUMMARY:Lucretia Estensis de Borgia. Tra biografia e narrazione nelle cart
 e dell’Archivio di Stato di Modena
DTSTART;VALUE=DATE:20200103
DTEND;VALUE=DATE:20200104
DTSTAMP;VALUE=DATE-TIME:20260419T171557Z
UID:50126b5fb73a4a65b5b8c1db08b6e2b2@ficlit.unibo.it
CREATED;VALUE=DATE-TIME:20220125T102833Z
DESCRIPTION:Inaugurazione della mostra presso l’ Archivio di Stato\, Mod
 ena
LAST-MODIFIED;VALUE=DATE-TIME:20220125T103007Z
URL:https://ficlit.unibo.it/it/eventi/lucretia-estensis-de-borgia-tra-biog
 rafia-e-narrazione-nelle-carte-dell-archivio-di-stato-di-modena
END:VEVENT
END:VCALENDAR
