BEGIN:VCALENDAR
VERSION:2.0
PRODID:-//Plone.org//NONSGML plone.app.event//EN
X-WR-TIMEZONE:Europe/Rome
BEGIN:VEVENT
SUMMARY:Lucrezia Borgia d'Este - Un anno di celebrazioni a 500 anni dalla 
 morte.
DTSTART;TZID=Europe/Rome;VALUE=DATE-TIME:20190624T160000
DTEND;TZID=Europe/Rome;VALUE=DATE-TIME:20190624T230000
DTSTAMP;VALUE=DATE-TIME:20260421T103935Z
UID:99061e599e6844bcb7ffe2b43265ba04@ficlit.unibo.it
CREATED;VALUE=DATE-TIME:20190617T131046Z
DESCRIPTION:Gli eventi per l'anniversario dei 500 anni dalla morte di Lucr
 ezia Borgia hanno inizio. 24 giugno 2019 - 24 giugno 2020 - Modena\, Bolog
 na\, Lugo di Romagna.
LAST-MODIFIED;VALUE=DATE-TIME:20190617T131211Z
URL:https://ficlit.unibo.it/it/eventi/lucrezia-borgia-deste-un-anno-di-cel
 ebrazioni-a-500-anni-dalla-morte
END:VEVENT
BEGIN:VTIMEZONE
TZID:Europe/Rome
X-LIC-LOCATION:Europe/Rome
BEGIN:DAYLIGHT
DTSTART;VALUE=DATE-TIME:20190331T030000
TZNAME:CEST
TZOFFSETFROM:+0100
TZOFFSETTO:+0200
END:DAYLIGHT
END:VTIMEZONE
END:VCALENDAR
