BEGIN:VCALENDAR
VERSION:2.0
PRODID:-//Plone.org//NONSGML plone.app.event//EN
X-WR-TIMEZONE:Europe/Rome
BEGIN:VEVENT
SUMMARY:MAGISTRALMENTE
DTSTART;VALUE=DATE:20220303
DTEND;VALUE=DATE:20220305
DTSTAMP;VALUE=DATE-TIME:20260422T092444Z
UID:f6de787df5c547f0866a0b4b795695ca@ficlit.unibo.it
CREATED;VALUE=DATE-TIME:20220221T182200Z
DESCRIPTION:ALUMNI E PROFESSIONI DA RACCONTARE
LAST-MODIFIED;VALUE=DATE-TIME:20220222T080414Z
URL:https://ficlit.unibo.it/it/eventi/magistralmente
END:VEVENT
END:VCALENDAR
