BEGIN:VCALENDAR
VERSION:2.0
PRODID:-//Plone.org//NONSGML plone.app.event//EN
X-WR-TIMEZONE:Europe/Rome
BEGIN:VEVENT
SUMMARY:Prof. Maiko Favaro\, Ambiguità del petrarchismo
DTSTART;TZID=Europe/Rome;VALUE=DATE-TIME:20220302T090000
DTEND;TZID=Europe/Rome;VALUE=DATE-TIME:20220302T110000
DTSTAMP;VALUE=DATE-TIME:20260422T101357Z
UID:8175f9546b0f42dda40365a368416049@ficlit.unibo.it
CREATED;VALUE=DATE-TIME:20220222T081303Z
DESCRIPTION:All’interno del corso di Letteratura italiana del Rinascimen
 to del prof. A. Severi
LAST-MODIFIED;VALUE=DATE-TIME:20220222T081620Z
URL:https://ficlit.unibo.it/it/eventi/maiko-favaro-ambiguita-del-petrarchi
 smo
END:VEVENT
BEGIN:VTIMEZONE
TZID:Europe/Rome
X-LIC-LOCATION:Europe/Rome
BEGIN:STANDARD
DTSTART;VALUE=DATE-TIME:20211031T020000
TZNAME:CET
TZOFFSETFROM:+0200
TZOFFSETTO:+0100
END:STANDARD
END:VTIMEZONE
END:VCALENDAR
