BEGIN:VCALENDAR
VERSION:2.0
PRODID:-//Plone.org//NONSGML plone.app.event//EN
X-WR-TIMEZONE:Europe/Rome
BEGIN:VEVENT
SUMMARY:Maria Giudice di Mariarosa Cutrufelli
DTSTART;TZID=Europe/Rome;VALUE=DATE-TIME:20220330T173000
DTEND;TZID=Europe/Rome;VALUE=DATE-TIME:20220330T183000
DTSTAMP;VALUE=DATE-TIME:20260422T081736Z
UID:43cc59e1eabb4e61982622b2c59779fb@ficlit.unibo.it
CREATED;VALUE=DATE-TIME:20220318T175144Z
DESCRIPTION:Giulio Perrone editore\, 2022
LAST-MODIFIED;VALUE=DATE-TIME:20220318T175600Z
URL:https://ficlit.unibo.it/it/eventi/maria-giudice-di-mariarosa-cutrufell
 i
END:VEVENT
BEGIN:VTIMEZONE
TZID:Europe/Rome
X-LIC-LOCATION:Europe/Rome
BEGIN:DAYLIGHT
DTSTART;VALUE=DATE-TIME:20220327T030000
TZNAME:CEST
TZOFFSETFROM:+0100
TZOFFSETTO:+0200
END:DAYLIGHT
END:VTIMEZONE
END:VCALENDAR
