BEGIN:VCALENDAR
VERSION:2.0
PRODID:-//Plone.org//NONSGML plone.app.event//EN
X-WR-TIMEZONE:Europe/Rome
BEGIN:VEVENT
SUMMARY:Maria Rosa Cutrufelli\, L'isola delle Madri
DTSTART;TZID=Europe/Rome;VALUE=DATE-TIME:20220330T103000
DTEND;TZID=Europe/Rome;VALUE=DATE-TIME:20220330T120000
DTSTAMP;VALUE=DATE-TIME:20260425T192250Z
UID:512b9593a59b4e91a9283360c424391b@ficlit.unibo.it
CREATED;VALUE=DATE-TIME:20220322T170343Z
DESCRIPTION:30 Marzo 2022\, Santa Cristina Aula A\, ore 10.30-12
LAST-MODIFIED;VALUE=DATE-TIME:20220322T170439Z
URL:https://ficlit.unibo.it/it/eventi/maria-rosa-cutrufelli-isola-delle-ma
 dri
END:VEVENT
BEGIN:VTIMEZONE
TZID:Europe/Rome
X-LIC-LOCATION:Europe/Rome
BEGIN:DAYLIGHT
DTSTART;VALUE=DATE-TIME:20220327T030000
TZNAME:CEST
TZOFFSETFROM:+0100
TZOFFSETTO:+0200
END:DAYLIGHT
END:VTIMEZONE
END:VCALENDAR
