BEGIN:VCALENDAR
VERSION:2.0
PRODID:-//Plone.org//NONSGML plone.app.event//EN
X-WR-TIMEZONE:Europe/Rome
BEGIN:VEVENT
SUMMARY:Mauro CHIABRANDO (Milano) - Il particolare superfluo: le fascette 
 editoriali
DTSTART;TZID=Europe/Rome;VALUE=DATE-TIME:20200116T150000
DTEND;TZID=Europe/Rome;VALUE=DATE-TIME:20200116T170000
DTSTAMP;VALUE=DATE-TIME:20260419T171512Z
UID:1b3b187701ee4ea9aeeed5279a28fdd0@ficlit.unibo.it
CREATED;VALUE=DATE-TIME:20200122T155535Z
DESCRIPTION:Minuzie editoriali - Lezioni sul libro del Novecento in Italia
  - II ciclo di incontri - 2019-20
LAST-MODIFIED;VALUE=DATE-TIME:20200122T155804Z
URL:https://ficlit.unibo.it/it/eventi/mauro-chiabrando-particolare-superfl
 uo-fascette-editoriali
END:VEVENT
BEGIN:VTIMEZONE
TZID:Europe/Rome
X-LIC-LOCATION:Europe/Rome
BEGIN:STANDARD
DTSTART;VALUE=DATE-TIME:20191027T020000
TZNAME:CET
TZOFFSETFROM:+0200
TZOFFSETTO:+0100
END:STANDARD
END:VTIMEZONE
END:VCALENDAR
