BEGIN:VCALENDAR
VERSION:2.0
PRODID:-//Plone.org//NONSGML plone.app.event//EN
X-WR-TIMEZONE:Europe/Rome
BEGIN:VEVENT
SUMMARY:Meaning Without Sentence
DTSTART;TZID=Europe/Rome;VALUE=DATE-TIME:20220701T163000
DTEND;TZID=Europe/Rome;VALUE=DATE-TIME:20220701T173000
DTSTAMP;VALUE=DATE-TIME:20260422T005910Z
UID:871c5962d21142419f17acd9db6b98cb@ficlit.unibo.it
CREATED;VALUE=DATE-TIME:20220701T080238Z
DESCRIPTION:On preprint discourse segmentation in ancient Greek
LAST-MODIFIED;VALUE=DATE-TIME:20220701T080433Z
URL:https://ficlit.unibo.it/it/eventi/meaning-without-sentence
END:VEVENT
BEGIN:VTIMEZONE
TZID:Europe/Rome
X-LIC-LOCATION:Europe/Rome
BEGIN:DAYLIGHT
DTSTART;VALUE=DATE-TIME:20220327T030000
TZNAME:CEST
TZOFFSETFROM:+0100
TZOFFSETTO:+0200
END:DAYLIGHT
END:VTIMEZONE
END:VCALENDAR
