BEGIN:VCALENDAR
VERSION:2.0
PRODID:-//Plone.org//NONSGML plone.app.event//EN
X-WR-TIMEZONE:Europe/Rome
BEGIN:VEVENT
SUMMARY:Medea\, Antigone\, Emone
DTSTART;TZID=Europe/Rome;VALUE=DATE-TIME:20171201T141500
DTEND;TZID=Europe/Rome;VALUE=DATE-TIME:20171201T160000
DTSTAMP;VALUE=DATE-TIME:20260424T040251Z
UID:f8c84774a82b4bfab4f0e8f50f10f2fa@ficlit.unibo.it
CREATED;VALUE=DATE-TIME:20171128T161659Z
DESCRIPTION:Dialogo tra Claudio Longhi e Renzo Tosi
LAST-MODIFIED;VALUE=DATE-TIME:20171128T161804Z
URL:https://ficlit.unibo.it/it/eventi/medea-antigone-emone
END:VEVENT
BEGIN:VTIMEZONE
TZID:Europe/Rome
X-LIC-LOCATION:Europe/Rome
BEGIN:STANDARD
DTSTART;VALUE=DATE-TIME:20171029T020000
TZNAME:CET
TZOFFSETFROM:+0200
TZOFFSETTO:+0100
END:STANDARD
END:VTIMEZONE
END:VCALENDAR
