BEGIN:VCALENDAR
VERSION:2.0
PRODID:-//Plone.org//NONSGML plone.app.event//EN
X-WR-TIMEZONE:Europe/Rome
BEGIN:VEVENT
SUMMARY:Michela Murgia a Bologna
DTSTART;TZID=Europe/Rome;VALUE=DATE-TIME:20190212T110000
DTEND;TZID=Europe/Rome;VALUE=DATE-TIME:20190212T130000
DTSTAMP;VALUE=DATE-TIME:20260420T050438Z
UID:e9eb4c90de5e497084ef10b003a4011e@ficlit.unibo.it
CREATED;VALUE=DATE-TIME:20190205T105601Z
DESCRIPTION:Con il patrocinio del Centro Studi Medical Humanities del Dipa
 rtimento di Filologia Classica e Italianistica\, della Societas Medica Chi
 rurgica Bononiensis e del Circolo Culturale Galileo Galilei - In collabora
 zione con il Centro per il libro e la lettura
LAST-MODIFIED;VALUE=DATE-TIME:20190206T141416Z
URL:https://ficlit.unibo.it/it/eventi/michela-murgia-a-bologna
END:VEVENT
BEGIN:VTIMEZONE
TZID:Europe/Rome
X-LIC-LOCATION:Europe/Rome
BEGIN:STANDARD
DTSTART;VALUE=DATE-TIME:20181028T020000
TZNAME:CET
TZOFFSETFROM:+0200
TZOFFSETTO:+0100
END:STANDARD
END:VTIMEZONE
END:VCALENDAR
