BEGIN:VCALENDAR
VERSION:2.0
PRODID:-//Plone.org//NONSGML plone.app.event//EN
X-WR-TIMEZONE:Europe/Rome
BEGIN:VEVENT
SUMMARY:Monsieur Giuseppe Raimondi tra Bologna e la Francia
DTSTART;TZID=Europe/Rome;VALUE=DATE-TIME:20221104T173000
DTEND;TZID=Europe/Rome;VALUE=DATE-TIME:20230204T180000
DTSTAMP;VALUE=DATE-TIME:20260422T083029Z
UID:c517ec0707534fe1b5c3e4550402a108@ficlit.unibo.it
CREATED;VALUE=DATE-TIME:20221101T165122Z
DESCRIPTION:Mostra di documenti del Fondo Giuseppe Raimondi conservato pre
 sso la Biblioteca “Ezio Raimondi” dell’Università di Bologna
LAST-MODIFIED;VALUE=DATE-TIME:20221101T173137Z
URL:https://ficlit.unibo.it/it/eventi/monsieur-giuseppe-raimondi-tra-bolog
 na-e-la-francia
END:VEVENT
BEGIN:VTIMEZONE
TZID:Europe/Rome
X-LIC-LOCATION:Europe/Rome
BEGIN:STANDARD
DTSTART;VALUE=DATE-TIME:20221030T020000
TZNAME:CET
TZOFFSETFROM:+0200
TZOFFSETTO:+0100
END:STANDARD
END:VTIMEZONE
END:VCALENDAR
