BEGIN:VCALENDAR
VERSION:2.0
PRODID:-//Plone.org//NONSGML plone.app.event//EN
X-WR-TIMEZONE:Europe/Rome
BEGIN:VEVENT
SUMMARY:Narrare la Medicina
DTSTART;TZID=Europe/Rome;VALUE=DATE-TIME:20151002T090000
DTEND;TZID=Europe/Rome;VALUE=DATE-TIME:20151002T190000
DTSTAMP;VALUE=DATE-TIME:20260420T032109Z
UID:6c7553fea71d49e99dbe5a6f307a7c2a@ficlit.unibo.it
CREATED;VALUE=DATE-TIME:20150916T100746Z
DESCRIPTION:1° Convegno del Centro Studi Medical Humanities Università d
 i Bologna
LAST-MODIFIED;VALUE=DATE-TIME:20150928T084117Z
URL:https://ficlit.unibo.it/it/eventi/narrare-la-medicina
END:VEVENT
BEGIN:VTIMEZONE
TZID:Europe/Rome
X-LIC-LOCATION:Europe/Rome
BEGIN:DAYLIGHT
DTSTART;VALUE=DATE-TIME:20150329T030000
TZNAME:CEST
TZOFFSETFROM:+0100
TZOFFSETTO:+0200
END:DAYLIGHT
END:VTIMEZONE
END:VCALENDAR
