BEGIN:VCALENDAR
VERSION:2.0
PRODID:-//Plone.org//NONSGML plone.app.event//EN
X-WR-TIMEZONE:Europe/Rome
BEGIN:VEVENT
SUMMARY:Nuovi testimoni e marginalia manzoniani
DTSTART;TZID=Europe/Rome;VALUE=DATE-TIME:20180222T150000
DTEND;TZID=Europe/Rome;VALUE=DATE-TIME:20180222T183000
DTSTAMP;VALUE=DATE-TIME:20260424T053239Z
UID:8b7e6636499a46a9a9f5dce5e08fef4b@ficlit.unibo.it
CREATED;VALUE=DATE-TIME:20180126T102322Z
DESCRIPTION:(PRIN 2015 Manzoni on line)
LAST-MODIFIED;VALUE=DATE-TIME:20180126T102337Z
URL:https://ficlit.unibo.it/it/eventi/nuovi-testimoni-e-marginalia-manzoni
 ani
END:VEVENT
BEGIN:VTIMEZONE
TZID:Europe/Rome
X-LIC-LOCATION:Europe/Rome
BEGIN:STANDARD
DTSTART;VALUE=DATE-TIME:20171029T020000
TZNAME:CET
TZOFFSETFROM:+0200
TZOFFSETTO:+0100
END:STANDARD
END:VTIMEZONE
END:VCALENDAR
