BEGIN:VCALENDAR
VERSION:2.0
PRODID:-//Plone.org//NONSGML plone.app.event//EN
X-WR-TIMEZONE:Europe/Rome
BEGIN:VEVENT
SUMMARY:Oltre i confini di genere: viaggiatrici del Medioevo
DTSTART;VALUE=DATE:20251126
DTEND;VALUE=DATE:20251127
DTSTAMP;VALUE=DATE-TIME:20260419T153852Z
UID:4847529e6ef540bc847c7e3d843eabd4@ficlit.unibo.it
CREATED;VALUE=DATE-TIME:20251121T211505Z
DESCRIPTION:Incontro con Gladys Lizabe
LAST-MODIFIED;VALUE=DATE-TIME:20251121T211811Z
URL:https://ficlit.unibo.it/it/eventi/oltre-i-confini-di-genere-viaggiatri
 ci-del-medioevo
END:VEVENT
END:VCALENDAR
