BEGIN:VCALENDAR
VERSION:2.0
PRODID:-//Plone.org//NONSGML plone.app.event//EN
X-WR-TIMEZONE:Europe/Rome
BEGIN:VEVENT
SUMMARY:On Complex Picture-Writings: Chimeras\, Pictographs and Writings i
 n the Native American Arts of Memory
DTSTART;TZID=Europe/Rome;VALUE=DATE-TIME:20220617T163000
DTEND;TZID=Europe/Rome;VALUE=DATE-TIME:20220617T180000
DTSTAMP;VALUE=DATE-TIME:20260422T120756Z
UID:a8153f0b993640a0bd1ad834c00a70e0@ficlit.unibo.it
CREATED;VALUE=DATE-TIME:20220610T152447Z
DESCRIPTION:SCRIBO 3 Seminar - Carlo Severi
LAST-MODIFIED;VALUE=DATE-TIME:20220614T122443Z
URL:https://ficlit.unibo.it/it/eventi/on-complex-picture-writings-chimeras
 -pictographs-and-writings-in-the-native-american-arts-of-memory
END:VEVENT
BEGIN:VTIMEZONE
TZID:Europe/Rome
X-LIC-LOCATION:Europe/Rome
BEGIN:DAYLIGHT
DTSTART;VALUE=DATE-TIME:20220327T030000
TZNAME:CEST
TZOFFSETFROM:+0100
TZOFFSETTO:+0200
END:DAYLIGHT
END:VTIMEZONE
END:VCALENDAR
