BEGIN:VCALENDAR
VERSION:2.0
PRODID:-//Plone.org//NONSGML plone.app.event//EN
X-WR-TIMEZONE:Europe/Rome
BEGIN:VEVENT
SUMMARY:“Parole per noi”\, a cura del Centro Studi “La permanenza de
 l Classico”
DTSTART;VALUE=DATE:20200329
DTEND;VALUE=DATE:20200428
DTSTAMP;VALUE=DATE-TIME:20260419T185620Z
UID:88badf5d1dae43528210a97dd4adac2a@ficlit.unibo.it
CREATED;VALUE=DATE-TIME:20220125T103231Z
DESCRIPTION:Pochi minuti per scoprire quanto siano attuali le parole dei c
 lassici del passato.
LAST-MODIFIED;VALUE=DATE-TIME:20220125T105341Z
URL:https://ficlit.unibo.it/it/eventi/parole-per-noi-a-cura-del-centro-stu
 di-la-permanenza-del-classico
END:VEVENT
END:VCALENDAR
