BEGIN:VCALENDAR
VERSION:2.0
PRODID:-//Plone.org//NONSGML plone.app.event//EN
X-WR-TIMEZONE:Europe/Rome
BEGIN:VEVENT
SUMMARY:PIER PAOLO PASOLINI. Folgorazioni figurative
DTSTART;TZID=Europe/Rome;VALUE=DATE-TIME:20220305T173000
DTEND;TZID=Europe/Rome;VALUE=DATE-TIME:20220305T203000
DTSTAMP;VALUE=DATE-TIME:20260422T103155Z
UID:9dc0b868a82441a6a9cb18f9f7713296@ficlit.unibo.it
CREATED;VALUE=DATE-TIME:20220225T090152Z
DESCRIPTION:Presentazione del catalogo della mostra con i curatori Marco A
 ntonio Bazzocchi\, Roberto Chiesi e Gian Luca Farinelli. Insieme agli auto
 ri interviene Michele Smargiassi
LAST-MODIFIED;VALUE=DATE-TIME:20220225T090532Z
URL:https://ficlit.unibo.it/it/eventi/pasolini-folgorazioni-figurative
END:VEVENT
BEGIN:VTIMEZONE
TZID:Europe/Rome
X-LIC-LOCATION:Europe/Rome
BEGIN:STANDARD
DTSTART;VALUE=DATE-TIME:20211031T020000
TZNAME:CET
TZOFFSETFROM:+0200
TZOFFSETTO:+0100
END:STANDARD
END:VTIMEZONE
END:VCALENDAR
