BEGIN:VCALENDAR
VERSION:2.0
PRODID:-//Plone.org//NONSGML plone.app.event//EN
X-WR-TIMEZONE:Europe/Rome
BEGIN:VEVENT
SUMMARY:Per Benvenuto da Imola
DTSTART;TZID=Europe/Rome;VALUE=DATE-TIME:20171218T150000
DTEND;TZID=Europe/Rome;VALUE=DATE-TIME:20171218T180000
DTSTAMP;VALUE=DATE-TIME:20260423T225148Z
UID:c38e310ccf0b45b7b5d64f7a0886b60a@ficlit.unibo.it
CREATED;VALUE=DATE-TIME:20171210T101551Z
DESCRIPTION:Le linee ideologiche del commento dantesco
LAST-MODIFIED;VALUE=DATE-TIME:20171211T155513Z
URL:https://ficlit.unibo.it/it/eventi/per-benvenuto-da-imola
END:VEVENT
BEGIN:VTIMEZONE
TZID:Europe/Rome
X-LIC-LOCATION:Europe/Rome
BEGIN:STANDARD
DTSTART;VALUE=DATE-TIME:20171029T020000
TZNAME:CET
TZOFFSETFROM:+0200
TZOFFSETTO:+0100
END:STANDARD
END:VTIMEZONE
END:VCALENDAR
