BEGIN:VCALENDAR
VERSION:2.0
PRODID:-//Plone.org//NONSGML plone.app.event//EN
X-WR-TIMEZONE:Europe/Rome
BEGIN:VEVENT
SUMMARY:Per capire il presente
DTSTART;TZID=Europe/Rome;VALUE=DATE-TIME:20220422T180000
DTEND;TZID=Europe/Rome;VALUE=DATE-TIME:20220422T190000
DTSTAMP;VALUE=DATE-TIME:20260422T193754Z
UID:3427356a1ac1450cb21d2da105fd2fee@ficlit.unibo.it
CREATED;VALUE=DATE-TIME:20220415T093847Z
DESCRIPTION:A due mesi dall'inizio della guerra le iniziative del FICLIT P
 ER LA PACE proseguono\, con un incontro per capire\, documentarsi\, partec
 ipare.
LAST-MODIFIED;VALUE=DATE-TIME:20220419T065948Z
URL:https://ficlit.unibo.it/it/eventi/per-capire-il-presente
END:VEVENT
BEGIN:VTIMEZONE
TZID:Europe/Rome
X-LIC-LOCATION:Europe/Rome
BEGIN:DAYLIGHT
DTSTART;VALUE=DATE-TIME:20220327T030000
TZNAME:CEST
TZOFFSETFROM:+0100
TZOFFSETTO:+0200
END:DAYLIGHT
END:VTIMEZONE
END:VCALENDAR
