BEGIN:VCALENDAR
VERSION:2.0
PRODID:-//Plone.org//NONSGML plone.app.event//EN
X-WR-TIMEZONE:Europe/Rome
BEGIN:VEVENT
SUMMARY:Per i romanzi di Alessandro Magno. Storie\, incontri\, tradizioni 
 testuali
DTSTART;TZID=Europe/Rome;VALUE=DATE-TIME:20170503T100000
DTEND;TZID=Europe/Rome;VALUE=DATE-TIME:20170503T173000
DTSTAMP;VALUE=DATE-TIME:20260422T151820Z
UID:bcea6fb8503247118b6f0c25029d16ca@ficlit.unibo.it
CREATED;VALUE=DATE-TIME:20170418T110451Z
DESCRIPTION:Giornata di Studi nell'ambito del Seminario di Filologia moder
 na III (a.a. 2016-2017) (a cura di G. Brunetti\, L. Chines\, L. Formisano\
 , P. Vecchi)
LAST-MODIFIED;VALUE=DATE-TIME:20170418T110611Z
URL:https://ficlit.unibo.it/it/eventi/per-i-romanzi-di-alessandro-magno.-s
 torie-incontri-tradizioni-testuali
END:VEVENT
BEGIN:VTIMEZONE
TZID:Europe/Rome
X-LIC-LOCATION:Europe/Rome
BEGIN:DAYLIGHT
DTSTART;VALUE=DATE-TIME:20170326T030000
TZNAME:CEST
TZOFFSETFROM:+0100
TZOFFSETTO:+0200
END:DAYLIGHT
END:VTIMEZONE
END:VCALENDAR
