BEGIN:VCALENDAR
VERSION:2.0
PRODID:-//Plone.org//NONSGML plone.app.event//EN
X-WR-TIMEZONE:Europe/Rome
BEGIN:VEVENT
SUMMARY:Petrarca e l'Umanesimo latino
DTSTART;TZID=Europe/Rome;VALUE=DATE-TIME:20220315T094500
DTEND;TZID=Europe/Rome;VALUE=DATE-TIME:20220315T183000
DTSTAMP;VALUE=DATE-TIME:20260422T043248Z
UID:5314a900c94d4d4aac70dbb7e10a1d35@ficlit.unibo.it
CREATED;VALUE=DATE-TIME:20220307T193902Z
DESCRIPTION:Seminario di Filologia moderna\, VIII (a. a. 2021/2022)
LAST-MODIFIED;VALUE=DATE-TIME:20220307T194402Z
URL:https://ficlit.unibo.it/it/eventi/petrarca-e-l-umanesimo-latino
END:VEVENT
BEGIN:VTIMEZONE
TZID:Europe/Rome
X-LIC-LOCATION:Europe/Rome
BEGIN:STANDARD
DTSTART;VALUE=DATE-TIME:20211031T020000
TZNAME:CET
TZOFFSETFROM:+0200
TZOFFSETTO:+0100
END:STANDARD
END:VTIMEZONE
END:VCALENDAR
