BEGIN:VCALENDAR
VERSION:2.0
PRODID:-//Plone.org//NONSGML plone.app.event//EN
X-WR-TIMEZONE:Europe/Rome
BEGIN:VEVENT
SUMMARY:Petrarchismi tra Quattro e Cinquecento
DTSTART;TZID=Europe/Rome;VALUE=DATE-TIME:20220523T150000
DTEND;TZID=Europe/Rome;VALUE=DATE-TIME:20220523T183000
DTSTAMP;VALUE=DATE-TIME:20260422T030232Z
UID:5e377b92622545f2a99b0296a41a5c4d@ficlit.unibo.it
CREATED;VALUE=DATE-TIME:20220420T135804Z
DESCRIPTION:Bologna\, 23 maggio 2022
LAST-MODIFIED;VALUE=DATE-TIME:20220519T105657Z
URL:https://ficlit.unibo.it/it/eventi/petrarchismi-tra-quattro-e-cinquecen
 to
END:VEVENT
BEGIN:VTIMEZONE
TZID:Europe/Rome
X-LIC-LOCATION:Europe/Rome
BEGIN:DAYLIGHT
DTSTART;VALUE=DATE-TIME:20220327T030000
TZNAME:CEST
TZOFFSETFROM:+0100
TZOFFSETTO:+0200
END:DAYLIGHT
END:VTIMEZONE
END:VCALENDAR
