BEGIN:VCALENDAR
VERSION:2.0
PRODID:-//Plone.org//NONSGML plone.app.event//EN
X-WR-TIMEZONE:Europe/Rome
BEGIN:VEVENT
SUMMARY:Presentazione de "Il libro circondariale. Storie dal circolo dei l
 ettori della Dozza"
DTSTART;TZID=Europe/Rome;VALUE=DATE-TIME:20250512T180000
DTEND;TZID=Europe/Rome;VALUE=DATE-TIME:20250512T200000
DTSTAMP;VALUE=DATE-TIME:20260422T011311Z
UID:da6acf7ed92b46daaf61179b06c575a9@ficlit.unibo.it
CREATED;VALUE=DATE-TIME:20250505T125141Z
LAST-MODIFIED;VALUE=DATE-TIME:20250506T091741Z
URL:https://ficlit.unibo.it/it/eventi/presentazione-de-il-libro-circondari
 ale-storie-dal-circolo-dei-lettori-della-dozza
END:VEVENT
BEGIN:VTIMEZONE
TZID:Europe/Rome
X-LIC-LOCATION:Europe/Rome
BEGIN:DAYLIGHT
DTSTART;VALUE=DATE-TIME:20250330T030000
TZNAME:CEST
TZOFFSETFROM:+0100
TZOFFSETTO:+0200
END:DAYLIGHT
END:VTIMEZONE
END:VCALENDAR
