BEGIN:VCALENDAR
VERSION:2.0
PRODID:-//Plone.org//NONSGML plone.app.event//EN
X-WR-TIMEZONE:Europe/Rome
BEGIN:VEVENT
SUMMARY:Presentazione dei volumi Il ciclo di Guiron le Courtois. Romanzi i
 n prosa del XIII secolo
DTSTART;TZID=Europe/Rome;VALUE=DATE-TIME:20220331T160000
DTEND;TZID=Europe/Rome;VALUE=DATE-TIME:20220331T180000
DTSTAMP;VALUE=DATE-TIME:20260422T101431Z
UID:407f1d2b560340b59a8562653d320a70@ficlit.unibo.it
CREATED;VALUE=DATE-TIME:20220325T075708Z
DESCRIPTION:Edizione critica diretta da Lino Leonardi e Richard Trachsler 
 (Firenze\, Edizioni del Galluzzo per la Fondazione Ezio Franceschini)
LAST-MODIFIED;VALUE=DATE-TIME:20220325T075832Z
URL:https://ficlit.unibo.it/it/eventi/presentazione-dei-volumi-il-ciclo-di
 -guiron-le-courtois-romanzi-in-prosa-del-xiii-secolo
END:VEVENT
BEGIN:VTIMEZONE
TZID:Europe/Rome
X-LIC-LOCATION:Europe/Rome
BEGIN:DAYLIGHT
DTSTART;VALUE=DATE-TIME:20220327T030000
TZNAME:CEST
TZOFFSETFROM:+0100
TZOFFSETTO:+0200
END:DAYLIGHT
END:VTIMEZONE
END:VCALENDAR
