BEGIN:VCALENDAR
VERSION:2.0
PRODID:-//Plone.org//NONSGML plone.app.event//EN
X-WR-TIMEZONE:Europe/Rome
BEGIN:VEVENT
SUMMARY:Presentazione del libro "Un osservatore e testimone attento": L'op
 era di Remo Ceserani nel suo tempo.
DTSTART;VALUE=DATE:20191118
DTEND;VALUE=DATE:20191119
DTSTAMP;VALUE=DATE-TIME:20260419T170152Z
UID:90959f869ea0461c8e858c9feb3db20f@ficlit.unibo.it
CREATED;VALUE=DATE-TIME:20191105T080247Z
DESCRIPTION:Volume a cura  di Pierluigi Pellini e Stefano Lazzarin\, Mucch
 i\; vari amici e allievi hanno dedicato questo libro a Remo Ceserani\, doc
 ente del Dipartimento Ficlit per molti anni
LAST-MODIFIED;VALUE=DATE-TIME:20191105T080819Z
URL:https://ficlit.unibo.it/it/eventi/presentazione-del-libro-un-osservato
 re-e-testimone-attento-lopera-di-remo-ceserani-nel-suo-tempo-a-cura-di-pie
 rluigi-pellini-e-stefano-lazzarin-mucchi
END:VEVENT
END:VCALENDAR
