BEGIN:VCALENDAR
VERSION:2.0
PRODID:-//Plone.org//NONSGML plone.app.event//EN
X-WR-TIMEZONE:Europe/Rome
BEGIN:VEVENT
SUMMARY:Presentazione del Progetto MeMo
DTSTART;TZID=Europe/Rome;VALUE=DATE-TIME:20170119T150000
DTEND;TZID=Europe/Rome;VALUE=DATE-TIME:20170119T170000
DTSTAMP;VALUE=DATE-TIME:20260422T053900Z
UID:9a2d84ecb1704a668c5c409e0df89449@ficlit.unibo.it
CREATED;VALUE=DATE-TIME:20161212T111808Z
DESCRIPTION:(Mappatura Archivi di autori e autrici di Otto e Novecento)
LAST-MODIFIED;VALUE=DATE-TIME:20170117T145902Z
URL:https://ficlit.unibo.it/it/eventi/presentazione-del-progetto-memo
END:VEVENT
BEGIN:VTIMEZONE
TZID:Europe/Rome
X-LIC-LOCATION:Europe/Rome
BEGIN:STANDARD
DTSTART;VALUE=DATE-TIME:20161030T020000
TZNAME:CET
TZOFFSETFROM:+0200
TZOFFSETTO:+0100
END:STANDARD
END:VTIMEZONE
END:VCALENDAR
