BEGIN:VCALENDAR
VERSION:2.0
PRODID:-//Plone.org//NONSGML plone.app.event//EN
X-WR-TIMEZONE:Europe/Rome
BEGIN:VEVENT
SUMMARY:Presentazione del progetto Upgrading History. Diaries from the War
  Front
DTSTART;VALUE=DATE:20190618
DTEND;VALUE=DATE:20190619
DTSTAMP;VALUE=DATE-TIME:20260421T155117Z
UID:1013550ef2d34c468469681c81885ba3@ficlit.unibo.it
CREATED;VALUE=DATE-TIME:20190530T104231Z
LAST-MODIFIED;VALUE=DATE-TIME:20190530T104816Z
URL:https://ficlit.unibo.it/it/eventi/presentazione-del-progetto-upgrading
 -history.-diaries-from-the-war-front
END:VEVENT
END:VCALENDAR
