BEGIN:VCALENDAR
VERSION:2.0
PRODID:-//Plone.org//NONSGML plone.app.event//EN
X-WR-TIMEZONE:Europe/Rome
BEGIN:VEVENT
SUMMARY:Presentazione del volume Tu non c’era ancora di Jean Portante
DTSTART;TZID=Europe/Rome;VALUE=DATE-TIME:20220216T170000
DTEND;TZID=Europe/Rome;VALUE=DATE-TIME:20220216T190000
DTSTAMP;VALUE=DATE-TIME:20260422T122133Z
UID:dd87afd99cb24a3ab5e90b17e0e3e54b@ficlit.unibo.it
CREATED;VALUE=DATE-TIME:20220203T103956Z
DESCRIPTION:Presentazione di volume e dialogo con l’autore con intervent
 i di G.M. Anselmi\, A. Severi\, L. Rafanelli\, R. Laruccia.
LAST-MODIFIED;VALUE=DATE-TIME:20220203T104526Z
URL:https://ficlit.unibo.it/it/eventi/presentazione-del-volume-tu-non-c-er
 a-ancora-di-jean-portante-1
END:VEVENT
BEGIN:VTIMEZONE
TZID:Europe/Rome
X-LIC-LOCATION:Europe/Rome
BEGIN:STANDARD
DTSTART;VALUE=DATE-TIME:20211031T020000
TZNAME:CET
TZOFFSETFROM:+0200
TZOFFSETTO:+0100
END:STANDARD
END:VTIMEZONE
END:VCALENDAR
