BEGIN:VCALENDAR
VERSION:2.0
PRODID:-//Plone.org//NONSGML plone.app.event//EN
X-WR-TIMEZONE:Europe/Rome
BEGIN:VEVENT
SUMMARY:Presentazione dell'ebook "Rifugiati nella scrittura"
DTSTART;VALUE=DATE:20191008
DTEND;VALUE=DATE:20191009
DTSTAMP;VALUE=DATE-TIME:20260419T201941Z
UID:aaa8ea626b1b43ef8eb21ede3b5c9c85@ficlit.unibo.it
CREATED;VALUE=DATE-TIME:20191007T090444Z
DESCRIPTION:L'ebook raccoglie i racconti scaturiti dal Laboratorio di scri
 ttura creativa interculturale\, condotto da Fulvio Pezzarossa e Filippo Mi
 lani\, con il tutorato di Wu Ming 2
LAST-MODIFIED;VALUE=DATE-TIME:20191007T090518Z
URL:https://ficlit.unibo.it/it/eventi/presentazione-dellebook-rifugiati-ne
 lla-scrittura
END:VEVENT
END:VCALENDAR
