BEGIN:VCALENDAR
VERSION:2.0
PRODID:-//Plone.org//NONSGML plone.app.event//EN
X-WR-TIMEZONE:Europe/Rome
BEGIN:VEVENT
SUMMARY:Presentazione del Suppl. CIL IV a cura di Gualtiero Calboli e Conf
 erenza di Heikki Solin
DTSTART;TZID=Europe/Rome;VALUE=DATE-TIME:20220427T161500
DTEND;TZID=Europe/Rome;VALUE=DATE-TIME:20220427T180000
DTSTAMP;VALUE=DATE-TIME:20260422T011502Z
UID:fe4818e5a3a14b0190425d474d2e3a57@ficlit.unibo.it
CREATED;VALUE=DATE-TIME:20220319T144125Z
DESCRIPTION:Ciclo di conferenze e seminari FLCB 2021/2022
LAST-MODIFIED;VALUE=DATE-TIME:20220409T110823Z
URL:https://ficlit.unibo.it/it/eventi/presentazione-di-suppl-cil-iv-e-conf
 erenza-di-heikki-solin
END:VEVENT
BEGIN:VTIMEZONE
TZID:Europe/Rome
X-LIC-LOCATION:Europe/Rome
BEGIN:DAYLIGHT
DTSTART;VALUE=DATE-TIME:20220327T030000
TZNAME:CEST
TZOFFSETFROM:+0100
TZOFFSETTO:+0200
END:DAYLIGHT
END:VTIMEZONE
END:VCALENDAR
