BEGIN:VCALENDAR
VERSION:2.0
PRODID:-//Plone.org//NONSGML plone.app.event//EN
X-WR-TIMEZONE:Europe/Rome
BEGIN:VEVENT
SUMMARY:Presentazione di "Una corsa all'avventura. Saggi scelti (1932-1989
 )"\, Gianfranco Contini\, a cura di Uberto Motta Carocci editore\, 2023)
DTSTART;VALUE=DATE:20241209
DTEND;VALUE=DATE:20241210
DTSTAMP;VALUE=DATE-TIME:20260420T082746Z
UID:8f127a96224b4cecb432f13570b353d6@ficlit.unibo.it
CREATED;VALUE=DATE-TIME:20241126T164250Z
DESCRIPTION:﻿Seminari di Filologia moderna. XI cliclo (a.a. 2024-2025)
LAST-MODIFIED;VALUE=DATE-TIME:20241129T220235Z
URL:https://ficlit.unibo.it/it/eventi/presentazione-di-una-corsa-all-avven
 tura-saggi-scelti-1932-1989-gianfranco-contini-a-cura-di-uberto-motta-caro
 cci-editore-2023
END:VEVENT
END:VCALENDAR
