BEGIN:VCALENDAR
VERSION:2.0
PRODID:-//Plone.org//NONSGML plone.app.event//EN
X-WR-TIMEZONE:Europe/Rome
BEGIN:VEVENT
SUMMARY:Presentazione del volume I codici di Nag Hammadi: prima traduzione
  italiana integrale\, a cura di Andrea Annese\, Francesco Berno e Daniele 
 Tripaldi - Ne discuteranno con i curatori Mauro Bonazzi (FILO – UniBo) 
 e Costanza Bianchi (FSCIRE)
DTSTART;TZID=Europe/Rome;VALUE=DATE-TIME:20250314T170000
DTEND;TZID=Europe/Rome;VALUE=DATE-TIME:20250314T190000
DTSTAMP;VALUE=DATE-TIME:20260420T101300Z
UID:f24e15f117434555a820c3b0f4b31efa@ficlit.unibo.it
CREATED;VALUE=DATE-TIME:20250116T151931Z
DESCRIPTION:Ciclo di conferenze e seminari “FLCB” 2024/2025
LAST-MODIFIED;VALUE=DATE-TIME:20250116T160149Z
URL:https://ficlit.unibo.it/it/eventi/presentazione-volume-codici-nag-hamm
 adi-prima-traduzione-italiana-integrale
END:VEVENT
BEGIN:VTIMEZONE
TZID:Europe/Rome
X-LIC-LOCATION:Europe/Rome
BEGIN:STANDARD
DTSTART;VALUE=DATE-TIME:20241027T020000
TZNAME:CET
TZOFFSETFROM:+0200
TZOFFSETTO:+0100
END:STANDARD
END:VTIMEZONE
END:VCALENDAR
