BEGIN:VCALENDAR
VERSION:2.0
PRODID:-//Plone.org//NONSGML plone.app.event//EN
X-WR-TIMEZONE:Europe/Rome
BEGIN:VEVENT
SUMMARY:Problemi di tradizione indiretta
DTSTART;VALUE=DATE:20250307
DTEND;VALUE=DATE:20250308
DTSTAMP;VALUE=DATE-TIME:20260420T062644Z
UID:d328e3b228354121ac769ca250897a84@ficlit.unibo.it
CREATED;VALUE=DATE-TIME:20250128T113018Z
DESCRIPTION:Seminario FICLIT
LAST-MODIFIED;VALUE=DATE-TIME:20250128T113551Z
URL:https://ficlit.unibo.it/it/eventi/problemi-di-tradizione-indiretta
END:VEVENT
END:VCALENDAR
