BEGIN:VCALENDAR
VERSION:2.0
PRODID:-//Plone.org//NONSGML plone.app.event//EN
X-WR-TIMEZONE:Europe/Rome
BEGIN:VEVENT
SUMMARY:Prof. Camillo Neri: Edipo e l’esilio mancato
DTSTART;TZID=Europe/Rome;VALUE=DATE-TIME:20220119T153000
DTEND;TZID=Europe/Rome;VALUE=DATE-TIME:20220119T180000
DTSTAMP;VALUE=DATE-TIME:20260422T074636Z
UID:ec156a35f47b499a8749629ae80c3cb4@ficlit.unibo.it
CREATED;VALUE=DATE-TIME:20220119T074723Z
DESCRIPTION:Lezione di approfondimento e di preparazione alla Lettura pubb
 lica dell’«Edipo re» di Sofocle (25 marzo 2022)
LAST-MODIFIED;VALUE=DATE-TIME:20220119T080519Z
URL:https://ficlit.unibo.it/it/eventi/prof-camillo-neri-edipo-e-l-esilio-m
 ancato
END:VEVENT
BEGIN:VTIMEZONE
TZID:Europe/Rome
X-LIC-LOCATION:Europe/Rome
BEGIN:STANDARD
DTSTART;VALUE=DATE-TIME:20211031T020000
TZNAME:CET
TZOFFSETFROM:+0200
TZOFFSETTO:+0100
END:STANDARD
END:VTIMEZONE
END:VCALENDAR
