BEGIN:VCALENDAR
VERSION:2.0
PRODID:-//Plone.org//NONSGML plone.app.event//EN
X-WR-TIMEZONE:Europe/Rome
BEGIN:VEVENT
SUMMARY:Prof. Federico Condello\, Tradurre l’«Edipo re» di Sofocle
DTSTART;TZID=Europe/Rome;VALUE=DATE-TIME:20220218T153000
DTEND;TZID=Europe/Rome;VALUE=DATE-TIME:20220218T180000
DTSTAMP;VALUE=DATE-TIME:20260422T075349Z
UID:d24f74e6df47439bad817623a446a94d@ficlit.unibo.it
CREATED;VALUE=DATE-TIME:20220119T080812Z
DESCRIPTION:Lezione di approfondimento e di preparazione alla Lettura pubb
 lica dell’«Edipo re» di Sofocle (25 marzo 2022)
LAST-MODIFIED;VALUE=DATE-TIME:20220209T205037Z
URL:https://ficlit.unibo.it/it/eventi/prof-federico-condello-tradurre-l-ed
 ipo-re-di-sofocle
END:VEVENT
BEGIN:VTIMEZONE
TZID:Europe/Rome
X-LIC-LOCATION:Europe/Rome
BEGIN:STANDARD
DTSTART;VALUE=DATE-TIME:20211031T020000
TZNAME:CET
TZOFFSETFROM:+0200
TZOFFSETTO:+0100
END:STANDARD
END:VTIMEZONE
END:VCALENDAR
