BEGIN:VCALENDAR
VERSION:2.0
PRODID:-//Plone.org//NONSGML plone.app.event//EN
X-WR-TIMEZONE:Europe/Rome
BEGIN:VEVENT
SUMMARY:Prof. Luca Vaccaro\, Morte di un ingegnere napoletano di Antonio T
 ramontano
DTSTART;TZID=Europe/Rome;VALUE=DATE-TIME:20220310T110000
DTEND;TZID=Europe/Rome;VALUE=DATE-TIME:20220310T130000
DTSTAMP;VALUE=DATE-TIME:20260422T101510Z
UID:6ab1fe38ce5843559552291f0ca25005@ficlit.unibo.it
CREATED;VALUE=DATE-TIME:20220307T151757Z
DESCRIPTION:Laboratorio di Letteratura Teatrale Italiana A.A. 2021/2022
LAST-MODIFIED;VALUE=DATE-TIME:20220307T151926Z
URL:https://ficlit.unibo.it/it/eventi/prof-luca-vaccaro-morte-di-un-ingegn
 ere-napoletano-di-antonio-tramontano
END:VEVENT
BEGIN:VTIMEZONE
TZID:Europe/Rome
X-LIC-LOCATION:Europe/Rome
BEGIN:STANDARD
DTSTART;VALUE=DATE-TIME:20211031T020000
TZNAME:CET
TZOFFSETFROM:+0200
TZOFFSETTO:+0100
END:STANDARD
END:VTIMEZONE
END:VCALENDAR
