BEGIN:VCALENDAR
VERSION:2.0
PRODID:-//Plone.org//NONSGML plone.app.event//EN
X-WR-TIMEZONE:Europe/Rome
BEGIN:VEVENT
SUMMARY:Prof. Markus Janka\, Eros nelle tragedie di Sofocle
DTSTART;TZID=Europe/Rome;VALUE=DATE-TIME:20220325T111500
DTEND;TZID=Europe/Rome;VALUE=DATE-TIME:20220325T130000
DTSTAMP;VALUE=DATE-TIME:20260422T025107Z
UID:0bb21a3dfbbb4566b31dbf2ffceec01a@ficlit.unibo.it
CREATED;VALUE=DATE-TIME:20220119T081534Z
DESCRIPTION:Lezione di approfondimento e di preparazione alla Lettura pubb
 lica dell’«Edipo re» di Sofocle (25 marzo 2022)
LAST-MODIFIED;VALUE=DATE-TIME:20220323T225007Z
URL:https://ficlit.unibo.it/it/eventi/prof-markus-janka-eros-nelle-tragedi
 e-di-sofocle
END:VEVENT
BEGIN:VTIMEZONE
TZID:Europe/Rome
X-LIC-LOCATION:Europe/Rome
BEGIN:STANDARD
DTSTART;VALUE=DATE-TIME:20211031T020000
TZNAME:CET
TZOFFSETFROM:+0200
TZOFFSETTO:+0100
END:STANDARD
END:VTIMEZONE
END:VCALENDAR
