BEGIN:VCALENDAR
VERSION:2.0
PRODID:-//Plone.org//NONSGML plone.app.event//EN
X-WR-TIMEZONE:Europe/Rome
BEGIN:VEVENT
SUMMARY:Prof. Renzo Tosi\, Edipo a teatro
DTSTART;TZID=Europe/Rome;VALUE=DATE-TIME:20220303T153000
DTEND;TZID=Europe/Rome;VALUE=DATE-TIME:20220303T180000
DTSTAMP;VALUE=DATE-TIME:20260421T151010Z
UID:7e98081aadf145acb0ba0196bd055742@ficlit.unibo.it
CREATED;VALUE=DATE-TIME:20220119T081131Z
DESCRIPTION:Lezione di approfondimento e di preparazione alla Lettura pubb
 lica dell’«Edipo re» di Sofocle (25 marzo 2022)
LAST-MODIFIED;VALUE=DATE-TIME:20220119T081327Z
URL:https://ficlit.unibo.it/it/eventi/prof-renzo-tosi-edipo-a-teatro
END:VEVENT
BEGIN:VTIMEZONE
TZID:Europe/Rome
X-LIC-LOCATION:Europe/Rome
BEGIN:STANDARD
DTSTART;VALUE=DATE-TIME:20211031T020000
TZNAME:CET
TZOFFSETFROM:+0200
TZOFFSETTO:+0100
END:STANDARD
END:VTIMEZONE
END:VCALENDAR
